BEGIN:VCALENDAR
VERSION:2.0
PRODID:-//Tukios.com/
BEGIN:VEVENT
UID:5b33f579-7159-46cd-a95b-ea56f1dad4f5@www.jamesfuneralhomeinc.com
DTSTAMP:20260422T202431Z
DTSTART:20260430T170000Z
DTEND:20260430T180000Z
SUMMARY:Funeral Service
DESCRIPTION:
URL:https://www.jamesfuneralhomeinc.com/obituaries/audrey-simmons
LOCATION:James Funeral Home 8 East Broad Street  Newton Falls OH 44444
GEO:41.187351;-80.975667
END:VEVENT
END:VCALENDAR