BEGIN:VCALENDAR
VERSION:2.0
PRODID:-//Tukios.com/
BEGIN:VEVENT
UID:baad18d7-8a17-4cc0-8063-a384fb4d30c2@www.jamesfuneralhomeinc.com
DTSTAMP:20260422T201705Z
DTSTART:20260430T150000Z
DTEND:20260430T170000Z
SUMMARY:Visitation
DESCRIPTION:
URL:https://www.jamesfuneralhomeinc.com/obituaries/audrey-simmons
LOCATION:James Funeral Home 8 East Broad Street  Newton Falls OH 44444
GEO:41.187351;-80.975667
END:VEVENT
END:VCALENDAR