BEGIN:VCALENDAR
VERSION:2.0
PRODID:-//Tukios.com/
BEGIN:VEVENT
UID:f592d243-52d4-4e04-8612-f764779bf698@www.jamesfuneralhomeinc.com
DTSTAMP:20260421T020058Z
DTSTART:20260424T210000Z
DTEND:20260425T000000Z
SUMMARY:Visitation
DESCRIPTION:
URL:https://www.jamesfuneralhomeinc.com/obituaries/dewayne-brand
LOCATION: 8 East Broad Street  Newton Falls OH 44444
GEO:41.187351;-80.975667
END:VEVENT
END:VCALENDAR