BEGIN:VCALENDAR
VERSION:2.0
PRODID:-//Tukios.com/
BEGIN:VEVENT
UID:a8167062-7cc3-4e49-a520-7a582413a07f@www.jamesfuneralhomeinc.com
DTSTAMP:20260421T020400Z
DTSTART:20260425T150000Z
DTEND:20260425T160000Z
SUMMARY:Funeral Service
DESCRIPTION:
URL:https://www.jamesfuneralhomeinc.com/obituaries/dewayne-brand
LOCATION: 8 East Broad Street  Newton Falls OH 44444
GEO:41.187351;-80.975667
END:VEVENT
END:VCALENDAR