BEGIN:VCALENDAR
VERSION:2.0
PRODID:-//Tukios.com/
BEGIN:VEVENT
UID:b1bc12dd-3473-461c-acfa-927bfd1d6399@www.jamesfuneralhomeinc.com
DTSTAMP:20260421T020427Z
DTSTART:20260428T210000Z
DTEND:20260428T230000Z
SUMMARY:Visitation
DESCRIPTION:
URL:https://www.jamesfuneralhomeinc.com/obituaries/james-wilson
LOCATION:James Funeral Home 8 East Broad Street  Newton Falls OH 44444
GEO:41.187351;-80.975667
END:VEVENT
END:VCALENDAR