BEGIN:VCALENDAR
VERSION:2.0
PRODID:-//Tukios.com/
BEGIN:VEVENT
UID:56ab286d-754f-47dd-84a1-f49b0c866edb@www.jamesfuneralhomeinc.com
DTSTAMP:20260421T015947Z
DTSTART:20260429T150000Z
DTEND:20260429T160000Z
SUMMARY:Funeral Service
DESCRIPTION:
URL:https://www.jamesfuneralhomeinc.com/obituaries/james-wilson
LOCATION:James Funeral Home 8 East Broad Street  Newton Falls OH 44444
GEO:41.187351;-80.975667
END:VEVENT
END:VCALENDAR