BEGIN:VCALENDAR
VERSION:2.0
PRODID:-//Tukios.com/
BEGIN:VEVENT
UID:40acd2c0-8338-4e56-9c9f-1f794dac6304@www.jamesfuneralhomeinc.com
DTSTAMP:20260421T020554Z
DTSTART:20260429T163000Z
DTEND:20260429T170000Z
SUMMARY:Burial
DESCRIPTION:
URL:https://www.jamesfuneralhomeinc.com/obituaries/james-wilson
LOCATION:Atwater Cemetery 1169 State Route 183  Atwater OH 44201
GEO:41.020168;-81.1480319
END:VEVENT
END:VCALENDAR