BEGIN:VCALENDAR
VERSION:2.0
PRODID:-//Tukios.com/
BEGIN:VEVENT
UID:d10e0d25-8eab-429b-97b4-619b448c2955@www.jamesfuneralhomeinc.com
DTSTAMP:20260424T233129Z
DTSTART:20260503T190000Z
DTEND:20260503T200000Z
SUMMARY:Funeral Service
DESCRIPTION:
URL:https://www.jamesfuneralhomeinc.com/obituaries/robert-reider
LOCATION:James Funeral Home 8 East Broad Street  Newton Falls OH 44444
GEO:41.187351;-80.975667
END:VEVENT
END:VCALENDAR