BEGIN:VCALENDAR
VERSION:2.0
PRODID:-//Tukios.com/
BEGIN:VEVENT
UID:db1bb2d0-6707-4cf3-bf3a-225b8543f5f8@www.jamesfuneralhomeinc.com
DTSTAMP:20260424T232832Z
DTSTART:20260503T170000Z
DTEND:20260503T190000Z
SUMMARY:Visitation
DESCRIPTION:
URL:https://www.jamesfuneralhomeinc.com/obituaries/robert-reider
LOCATION:James Funeral Home 8 East Broad Street  Newton Falls OH 44444
GEO:41.187351;-80.975667
END:VEVENT
END:VCALENDAR