BEGIN:VCALENDAR
VERSION:2.0
PRODID:-//Tukios.com/
BEGIN:VEVENT
UID:cc003356-19e4-4db4-87cd-084ba4ca7955@www.jamesfuneralhomeinc.com
DTSTAMP:20260421T021456Z
DTSTART:20260426T210000Z
DTEND:20260426T230000Z
SUMMARY:Visitation
DESCRIPTION:
URL:https://www.jamesfuneralhomeinc.com/obituaries/walter-hickman
LOCATION:James Funeral Home 8 East Broad Street  Newton Falls OH 44444
GEO:41.187351;-80.975667
END:VEVENT
END:VCALENDAR