BEGIN:VCALENDAR
VERSION:2.0
PRODID:-//Tukios.com/
BEGIN:VEVENT
UID:361e2437-d128-49f3-ae15-c93a7224d59e@www.jamesfuneralhomeinc.com
DTSTAMP:20260421T021104Z
DTSTART:20260427T140000Z
DTEND:20260427T150000Z
SUMMARY:Funeral Service
DESCRIPTION:
URL:https://www.jamesfuneralhomeinc.com/obituaries/walter-hickman
LOCATION:James Funeral Home 8 East Broad Street  Newton Falls OH 44444
GEO:41.187351;-80.975667
END:VEVENT
END:VCALENDAR