BEGIN:VCALENDAR
VERSION:2.0
PRODID:-//Tukios.com/
BEGIN:VEVENT
UID:a7c4e996-5838-44d7-8ddc-000ef47be4e0@www.jamesfuneralhomeinc.com
DTSTAMP:20260421T021424Z
DTSTART:20260427T153000Z
DTEND:20260427T163000Z
SUMMARY:Burial
DESCRIPTION:
URL:https://www.jamesfuneralhomeinc.com/obituaries/walter-hickman
LOCATION:Meadow Brook Memorial Park 1211 State Road West  Warren OH 44483
GEO:41.2629796;-80.7990185
END:VEVENT
END:VCALENDAR